BEGIN:VCALENDAR
VERSION:2.0
PRODID:-//Village of Fredericton Junction - ECPv6.9.0//NONSGML v1.0//EN
CALSCALE:GREGORIAN
METHOD:PUBLISH
X-ORIGINAL-URL:http://frederictonjunction.ca
X-WR-CALDESC:Events for Village of Fredericton Junction
REFRESH-INTERVAL;VALUE=DURATION:PT1H
X-Robots-Tag:noindex
X-PUBLISHED-TTL:PT1H
BEGIN:VTIMEZONE
TZID:America/Moncton
BEGIN:DAYLIGHT
TZOFFSETFROM:-0400
TZOFFSETTO:-0300
TZNAME:ADT
DTSTART:20240310T060000
END:DAYLIGHT
BEGIN:STANDARD
TZOFFSETFROM:-0300
TZOFFSETTO:-0400
TZNAME:AST
DTSTART:20241103T050000
END:STANDARD
END:VTIMEZONE
BEGIN:VEVENT
DTSTART;TZID=America/Moncton:20240829T174500
DTEND;TZID=America/Moncton:20240829T190000
DTSTAMP:20260421T023252
CREATED:20240729T161334Z
LAST-MODIFIED:20240821T125409Z
UID:2011-1724953500-1724958000@frederictonjunction.ca
SUMMARY:Community Information Expo 2024 at Sunbury West School
DESCRIPTION:
URL:http://frederictonjunction.ca/event/community-information-expo-2024/
END:VEVENT
END:VCALENDAR