BEGIN:VCALENDAR
VERSION:2.0
PRODID:-//Village of Fredericton Junction - ECPv6.9.0//NONSGML v1.0//EN
CALSCALE:GREGORIAN
METHOD:PUBLISH
X-WR-CALNAME:Village of Fredericton Junction
X-ORIGINAL-URL:http://frederictonjunction.ca
X-WR-CALDESC:Events for Village of Fredericton Junction
REFRESH-INTERVAL;VALUE=DURATION:PT1H
X-Robots-Tag:noindex
X-PUBLISHED-TTL:PT1H
BEGIN:VTIMEZONE
TZID:America/Moncton
BEGIN:DAYLIGHT
TZOFFSETFROM:-0400
TZOFFSETTO:-0300
TZNAME:ADT
DTSTART:20230312T060000
END:DAYLIGHT
BEGIN:STANDARD
TZOFFSETFROM:-0300
TZOFFSETTO:-0400
TZNAME:AST
DTSTART:20231105T050000
END:STANDARD
END:VTIMEZONE
BEGIN:VEVENT
DTSTART;VALUE=DATE:20230805
DTEND;VALUE=DATE:20230813
DTSTAMP:20260421T011858
CREATED:20230728T182103Z
LAST-MODIFIED:20230728T182307Z
UID:1453-1691193600-1691884799@frederictonjunction.ca
SUMMARY:49th Annual Fredericton Junction Come Home Week - Theme: Reaching for Gold
DESCRIPTION:Schedule of Events have gone out in the mail to residents and activities are available \non the Come Home Week Facebook Page (the Link is available below): \n 
URL:http://frederictonjunction.ca/event/49th-annual-fredericton-junction-come-home-week-theme-reaching-for-gold/
LOCATION:Fredericton Junction\, New Brunswick\, Canada
ATTACH;FMTTYPE=image/jpeg:http://frederictonjunction.ca/wp-content/uploads/Come-Home-Week.jpg
END:VEVENT
END:VCALENDAR